BEGIN:VCALENDAR
VERSION:2.0
PRODID:-//NEPALESE NURSING ASSOCIATION UK - ECPv6.14.2//NONSGML v1.0//EN
CALSCALE:GREGORIAN
METHOD:PUBLISH
X-ORIGINAL-URL:https://www.nnauk.org
X-WR-CALDESC:Events for NEPALESE NURSING ASSOCIATION UK
REFRESH-INTERVAL;VALUE=DURATION:PT1H
X-Robots-Tag:noindex
X-PUBLISHED-TTL:PT1H
BEGIN:VTIMEZONE
TZID:Europe/London
BEGIN:DAYLIGHT
TZOFFSETFROM:+0000
TZOFFSETTO:+0100
TZNAME:BST
DTSTART:20250330T010000
END:DAYLIGHT
BEGIN:STANDARD
TZOFFSETFROM:+0100
TZOFFSETTO:+0000
TZNAME:GMT
DTSTART:20251026T010000
END:STANDARD
END:VTIMEZONE
BEGIN:VEVENT
DTSTART;TZID=Europe/London:20251025T080000
DTEND;TZID=Europe/London:20251025T170000
DTSTAMP:20260422T104416
CREATED:20250304T103840Z
LAST-MODIFIED:20250306T133329Z
UID:4290-1761379200-1761411600@www.nnauk.org
SUMMARY:Dashain Tihar Fundraiser
DESCRIPTION:Charity Dinner to raise funds for ‘’Nurses Emergency Fund ‘’
URL:https://www.nnauk.org/event/dashain-tihar-fundraiser/
LOCATION:Harrow Borough Football Club\, Earlsmead\, Carlyon Aennue\, Harrow\, Middlesex\, HA2 8SS\, United Kingdom
ATTACH;FMTTYPE=image/jpeg:https://www.nnauk.org/wp-content/uploads/2025/03/download.jpg
ORGANIZER;CN="NNAUK.ORG":MAILTO:info@nnauk.org
END:VEVENT
END:VCALENDAR